BEGIN:VCALENDAR
VERSION:2.0
PRODID:-//jEvents 2.0 for Joomla//EN
CALSCALE:GREGORIAN
METHOD:PUBLISH
BEGIN:VEVENT
UID:609ed245a6dd184fad66e2e575c619e2
CATEGORIES:2015 Events
SUMMARY:ZITF : Venue Harare
DESCRIPTION;ENCODING=QUOTED-PRINTABLE:<p>ZITF   :      Venue Harare</p>
DTSTAMP:20260420T094621Z
DTSTART:20150102T080000Z
DTEND:20151202T170000Z
SEQUENCE:0
TRANSP:OPAQUE
END:VEVENT
END:VCALENDAR